BEGIN:VCALENDAR
VERSION:2.0
PRODID:-//Ecosystem Venture Group//Silkstart Technology Inc.//
BEGIN:VTIMEZONE
TZID:US/Pacific
BEGIN:DAYLIGHT
DTSTART;VALUE=DATE-TIME:20260308T020000
TZNAME:PDT
TZOFFSETFROM:-0800
TZOFFSETTO:-0700
END:DAYLIGHT
BEGIN:STANDARD
DTSTART;VALUE=DATE-TIME:20261101T020000
TZNAME:PST
TZOFFSETFROM:-0700
TZOFFSETTO:-0800
END:STANDARD
END:VTIMEZONE
BEGIN:VEVENT
SUMMARY:EcoVG SoCal Investment Summit - Startup & Investor Speed Dating 
 (Invite Only)
DTSTART;TZID=US/Pacific;VALUE=DATE-TIME:20260416T100000
DTEND;TZID=US/Pacific;VALUE=DATE-TIME:20260416T120000
DTSTAMP;VALUE=DATE-TIME:20260306T230400
UID:69ab5d601995c705e0b2d7b2
DESCRIPTION: EcoVG SoCal Investment Summit - Startup &amp\; Investor Speed 
 Dating (Invite Only) Empowering the Next Generation of Global Innovation 
 Thursday\, April 16th\, 2026 10:00 AM - Noon​​​​​​ Pacific 
 Time Balboa Bay Resort &amp\; Club Room: The Lighthouse 1221 West Coast 
 Highway\, Newport Beach\, CA 92663 Google Maps Link Apply Here to Pitch 
 Hotel Recommendations near Balboa Bay Club &amp\; Resort - Click Here 
 Overview: Kick off the EcoVG SoCal Investment Summit with our high-
 energy\, in-person Startup &amp\; Investor Speed Dating\, hosted by 
 Ecosystem Venture Group (EcoVG). This curated networking experience brings
  together innovative startups and active investors for focused\, one-on-
 one meetings designed to spark meaningful connections and accelerate deal 
 flow. During this session\, selected startups will meet directly with 
 investors for structured 5-minute rotations to pitch their company\, 
 receive feedback\, and build relationships that can lead to funding 
 opportunities. Whether you&rsquo\;re a founder seeking capital or an 
 investor looking for high-quality deal flow\, this event is designed to 
 maximize exposure\, efficiency\, and impactful connections - all within a 
 dynamic two-hour session. Agenda: 10:00 AM &ndash\; 12:00 PM - Startup 
 &amp\; Investor Speed Dating (Additional Summit programming to follow.) 
 Date and Time: Date: Thursday\, April 16th\, 2026 Time: 10:00 AM &ndash\; 
 12:00 PM PT Venue: Balboa Bay Resort &amp\; Club Room: The Lighthouse 1221
  West Coast Highway Newport Beach\, CA 92663 Google Maps Link Who&rsquo\;s
  in the Room? This event is designed for: Startups (Pre-Seed through 
 Series A) seeking capital\, strategic partnerships\, mentorship\, and 
 investor exposure. Angel Investors\, Venture Capitalists\, and Family 
 Offices looking for curated\, high-potential opportunities and direct 
 founder access. Participation is curated to ensure high-quality 
 interactions and meaningful engagement for both founders and investors 
 Apply to Pitch If you would like to apply to pitch at the event: Click 
 here to apply Questions? Please email Kahaan Shah &ndash\; 
 Kahaan.shah@ecovg.com Ecosystem Venture Group provides a forum for 
 connection\, feedback\, and investment opportunities. Participation is 
 voluntary. By participating\, you agree that your contact information may 
 be shared with attending investors. Event registrants may be added to our 
 mailing list. 
LOCATION:1221 West Coast Hwy\, Newport Beach\, CA 92663\, USA
PRIORITY:5
URL:https://events.ecovg.com:443/events/ecovg-socal-investment-summit-
 startup-investor-speed-dating-invite-only
END:VEVENT
END:VCALENDAR
